BEGIN:VCALENDAR
VERSION:2.0
PRODID:-//Morayfield Community Uniting Church - ECPv6.15.20//NONSGML v1.0//EN
CALSCALE:GREGORIAN
METHOD:PUBLISH
X-ORIGINAL-URL:https://mcuc.org.au
X-WR-CALDESC:Events for Morayfield Community Uniting Church
REFRESH-INTERVAL;VALUE=DURATION:PT1H
X-Robots-Tag:noindex
X-PUBLISHED-TTL:PT1H
BEGIN:VTIMEZONE
TZID:Australia/Brisbane
BEGIN:STANDARD
TZOFFSETFROM:+1000
TZOFFSETTO:+1000
TZNAME:AEST
DTSTART:20220101T000000
END:STANDARD
END:VTIMEZONE
BEGIN:VEVENT
DTSTART;TZID=Australia/Brisbane:20231224T230000
DTEND;TZID=Australia/Brisbane:20231225T000000
DTSTAMP:20260420T213723
CREATED:20231210T071538Z
LAST-MODIFIED:20231210T093304Z
UID:4632-1703458800-1703462400@mcuc.org.au
SUMMARY:Christmas Eve Service
DESCRIPTION:
URL:https://mcuc.org.au/event/christmas-eve-service/
LOCATION:Morayfield Community Uniting Church  (behind Blue Care facility)\, 12-16 Weier Road\, Morayfield\, Queensland\, 4506\, Australia
CATEGORIES:Worship Services
ORGANIZER;CN="MCUC":MAILTO:mcuc77@gmail.com
END:VEVENT
BEGIN:VEVENT
DTSTART;TZID=Australia/Brisbane:20231224T083000
DTEND;TZID=Australia/Brisbane:20231224T093000
DTSTAMP:20260420T213723
CREATED:20231210T071418Z
LAST-MODIFIED:20231210T093323Z
UID:4630-1703406600-1703410200@mcuc.org.au
SUMMARY:Sunday Service
DESCRIPTION:
URL:https://mcuc.org.au/event/sunday-service-2/
LOCATION:Morayfield Community Uniting Church  (behind Blue Care facility)\, 12-16 Weier Road\, Morayfield\, Queensland\, 4506\, Australia
CATEGORIES:Worship Services
ORGANIZER;CN="MCUC":MAILTO:mcuc77@gmail.com
END:VEVENT
BEGIN:VEVENT
DTSTART;TZID=Australia/Brisbane:20231217T083000
DTEND;TZID=Australia/Brisbane:20231217T093000
DTSTAMP:20260420T213723
CREATED:20231210T071306Z
LAST-MODIFIED:20231210T093332Z
UID:4628-1702801800-1702805400@mcuc.org.au
SUMMARY:Sunday Service
DESCRIPTION:
URL:https://mcuc.org.au/event/sunday-service/
LOCATION:Morayfield Community Uniting Church  (behind Blue Care facility)\, 12-16 Weier Road\, Morayfield\, Queensland\, 4506\, Australia
CATEGORIES:Worship Services
ORGANIZER;CN="MCUC":MAILTO:mcuc77@gmail.com
END:VEVENT
END:VCALENDAR