BEGIN:VCALENDAR
VERSION:2.0
PRODID:-//Morayfield Community Uniting Church - ECPv6.15.20//NONSGML v1.0//EN
CALSCALE:GREGORIAN
METHOD:PUBLISH
X-WR-CALNAME:Morayfield Community Uniting Church
X-ORIGINAL-URL:https://mcuc.org.au
X-WR-CALDESC:Events for Morayfield Community Uniting Church
REFRESH-INTERVAL;VALUE=DURATION:PT1H
X-Robots-Tag:noindex
X-PUBLISHED-TTL:PT1H
BEGIN:VTIMEZONE
TZID:Australia/Brisbane
BEGIN:STANDARD
TZOFFSETFROM:+1000
TZOFFSETTO:+1000
TZNAME:AEST
DTSTART:20220101T000000
END:STANDARD
END:VTIMEZONE
BEGIN:VEVENT
DTSTART;TZID=Australia/Brisbane:20260419T083000
DTEND;TZID=Australia/Brisbane:20260419T093000
DTSTAMP:20260420T160624
CREATED:20240115T121225Z
LAST-MODIFIED:20260331T125400Z
UID:4718-1776587400-1776591000@mcuc.org.au
SUMMARY:Sunday Service
DESCRIPTION:
URL:https://mcuc.org.au/event/sunday-service-14/
LOCATION:Morayfield Community Uniting Church  (behind Blue Care facility)\, 12-16 Weier Road\, Morayfield\, Queensland\, 4506\, Australia
CATEGORIES:Worship Services
ORGANIZER;CN="MCUC":MAILTO:mcuc77@gmail.com
END:VEVENT
BEGIN:VEVENT
DTSTART;TZID=Australia/Brisbane:20260412T083000
DTEND;TZID=Australia/Brisbane:20260412T093000
DTSTAMP:20260420T160624
CREATED:20260331T123620Z
LAST-MODIFIED:20260331T125339Z
UID:4720-1775982600-1775986200@mcuc.org.au
SUMMARY:Sunday Service
DESCRIPTION:
URL:https://mcuc.org.au/event/sunday-service-15/
LOCATION:Morayfield Community Uniting Church  (behind Blue Care facility)\, 12-16 Weier Road\, Morayfield\, Queensland\, 4506\, Australia
CATEGORIES:Worship Services
ORGANIZER;CN="MCUC":MAILTO:mcuc77@gmail.com
END:VEVENT
BEGIN:VEVENT
DTSTART;TZID=Australia/Brisbane:20260405T083000
DTEND;TZID=Australia/Brisbane:20260405T093000
DTSTAMP:20260420T160624
CREATED:20260331T121424Z
LAST-MODIFIED:20260331T121657Z
UID:4873-1775377800-1775381400@mcuc.org.au
SUMMARY:Easter Sunday Service
DESCRIPTION:
URL:https://mcuc.org.au/event/easter-sunday-service/
LOCATION:Morayfield Community Uniting Church  (behind Blue Care facility)\, 12-16 Weier Road\, Morayfield\, Queensland\, 4506\, Australia
CATEGORIES:Worship Services
END:VEVENT
BEGIN:VEVENT
DTSTART;TZID=Australia/Brisbane:20260403T073000
DTEND;TZID=Australia/Brisbane:20260403T083000
DTSTAMP:20260420T160624
CREATED:20260331T121610Z
LAST-MODIFIED:20260331T121610Z
UID:4877-1775201400-1775205000@mcuc.org.au
SUMMARY:Good Friday Service
DESCRIPTION:
URL:https://mcuc.org.au/event/good-friday-service/
LOCATION:Morayfield Community Uniting Church  (behind Blue Care facility)\, 12-16 Weier Road\, Morayfield\, Queensland\, 4506\, Australia
CATEGORIES:Worship Services
END:VEVENT
BEGIN:VEVENT
DTSTART;TZID=Australia/Brisbane:20260402T190000
DTEND;TZID=Australia/Brisbane:20260402T200000
DTSTAMP:20260420T160624
CREATED:20260331T121347Z
LAST-MODIFIED:20260331T121635Z
UID:4871-1775156400-1775160000@mcuc.org.au
SUMMARY:Maundy Thursday service
DESCRIPTION:
URL:https://mcuc.org.au/event/maundy-thursday-service/
LOCATION:Morayfield Community Uniting Church  (behind Blue Care facility)\, 12-16 Weier Road\, Morayfield\, Queensland\, 4506\, Australia
CATEGORIES:Worship Services
END:VEVENT
BEGIN:VEVENT
DTSTART;TZID=Australia/Brisbane:20241225T073000
DTEND;TZID=Australia/Brisbane:20241225T083000
DTSTAMP:20260420T160624
CREATED:20241217T021617Z
LAST-MODIFIED:20241217T021739Z
UID:4775-1735111800-1735115400@mcuc.org.au
SUMMARY:Christmas Day Service
DESCRIPTION:
URL:https://mcuc.org.au/event/christmas-eve-service-3/
LOCATION:Morayfield Community Uniting Church  (behind Blue Care facility)\, 12-16 Weier Road\, Morayfield\, Queensland\, 4506\, Australia
CATEGORIES:Worship Services
ORGANIZER;CN="MCUC":MAILTO:mcuc77@gmail.com
END:VEVENT
BEGIN:VEVENT
DTSTART;TZID=Australia/Brisbane:20241224T200000
DTEND;TZID=Australia/Brisbane:20241224T210000
DTSTAMP:20260420T160624
CREATED:20241217T021425Z
LAST-MODIFIED:20241217T021710Z
UID:4772-1735070400-1735074000@mcuc.org.au
SUMMARY:Christmas Eve Service
DESCRIPTION:
URL:https://mcuc.org.au/event/christmas-eve-service-2/
LOCATION:Morayfield Community Uniting Church  (behind Blue Care facility)\, 12-16 Weier Road\, Morayfield\, Queensland\, 4506\, Australia
CATEGORIES:Worship Services
ORGANIZER;CN="MCUC":MAILTO:mcuc77@gmail.com
END:VEVENT
BEGIN:VEVENT
DTSTART;TZID=Australia/Brisbane:20240218T083000
DTEND;TZID=Australia/Brisbane:20240218T093000
DTSTAMP:20260420T160624
CREATED:20240115T073538Z
LAST-MODIFIED:20240115T073903Z
UID:4673-1708245000-1708248600@mcuc.org.au
SUMMARY:Sunday Service
DESCRIPTION:
URL:https://mcuc.org.au/event/sunday-service-10/
LOCATION:Morayfield Community Uniting Church  (behind Blue Care facility)\, 12-16 Weier Road\, Morayfield\, Queensland\, 4506\, Australia
CATEGORIES:Worship Services
ORGANIZER;CN="MCUC":MAILTO:mcuc77@gmail.com
END:VEVENT
BEGIN:VEVENT
DTSTART;TZID=Australia/Brisbane:20240211T083000
DTEND;TZID=Australia/Brisbane:20240211T093000
DTSTAMP:20260420T160624
CREATED:20240115T072906Z
LAST-MODIFIED:20240115T073918Z
UID:4669-1707640200-1707643800@mcuc.org.au
SUMMARY:Sunday Service
DESCRIPTION:
URL:https://mcuc.org.au/event/sunday-service-9/
LOCATION:Morayfield Community Uniting Church  (behind Blue Care facility)\, 12-16 Weier Road\, Morayfield\, Queensland\, 4506\, Australia
CATEGORIES:Worship Services
ORGANIZER;CN="MCUC":MAILTO:mcuc77@gmail.com
END:VEVENT
BEGIN:VEVENT
DTSTART;TZID=Australia/Brisbane:20240204T083000
DTEND;TZID=Australia/Brisbane:20240204T093000
DTSTAMP:20260420T160624
CREATED:20240115T072748Z
LAST-MODIFIED:20240115T074031Z
UID:4666-1707035400-1707039000@mcuc.org.au
SUMMARY:Sunday Service
DESCRIPTION:
URL:https://mcuc.org.au/event/sunday-service-8/
LOCATION:Morayfield Community Uniting Church  (behind Blue Care facility)\, 12-16 Weier Road\, Morayfield\, Queensland\, 4506\, Australia
CATEGORIES:Worship Services
ORGANIZER;CN="MCUC":MAILTO:mcuc77@gmail.com
END:VEVENT
BEGIN:VEVENT
DTSTART;TZID=Australia/Brisbane:20240128T083000
DTEND;TZID=Australia/Brisbane:20240128T093000
DTSTAMP:20260420T160624
CREATED:20240115T072441Z
LAST-MODIFIED:20240115T074116Z
UID:4661-1706430600-1706434200@mcuc.org.au
SUMMARY:Sunday Service
DESCRIPTION:
URL:https://mcuc.org.au/event/sunday-service-7/
LOCATION:Morayfield Community Uniting Church  (behind Blue Care facility)\, 12-16 Weier Road\, Morayfield\, Queensland\, 4506\, Australia
CATEGORIES:Worship Services
ORGANIZER;CN="MCUC":MAILTO:mcuc77@gmail.com
END:VEVENT
BEGIN:VEVENT
DTSTART;TZID=Australia/Brisbane:20240121T083000
DTEND;TZID=Australia/Brisbane:20240121T093000
DTSTAMP:20260420T160624
CREATED:20240115T072354Z
LAST-MODIFIED:20240115T074149Z
UID:4659-1705825800-1705829400@mcuc.org.au
SUMMARY:Sunday Service
DESCRIPTION:
URL:https://mcuc.org.au/event/sunday-service-6/
LOCATION:Morayfield Community Uniting Church  (behind Blue Care facility)\, 12-16 Weier Road\, Morayfield\, Queensland\, 4506\, Australia
CATEGORIES:Worship Services
ORGANIZER;CN="MCUC":MAILTO:mcuc77@gmail.com
END:VEVENT
BEGIN:VEVENT
DTSTART;TZID=Australia/Brisbane:20240114T083000
DTEND;TZID=Australia/Brisbane:20240114T093000
DTSTAMP:20260420T160624
CREATED:20240115T072116Z
LAST-MODIFIED:20240115T082005Z
UID:4657-1705221000-1705224600@mcuc.org.au
SUMMARY:Sunday Service
DESCRIPTION:
URL:https://mcuc.org.au/event/sunday-service-5/
LOCATION:Morayfield Community Uniting Church  (behind Blue Care facility)\, 12-16 Weier Road\, Morayfield\, Queensland\, 4506\, Australia
CATEGORIES:Worship Services
ORGANIZER;CN="MCUC":MAILTO:mcuc77@gmail.com
END:VEVENT
BEGIN:VEVENT
DTSTART;TZID=Australia/Brisbane:20240107T083000
DTEND;TZID=Australia/Brisbane:20240107T083000
DTSTAMP:20260420T160624
CREATED:20231210T094126Z
LAST-MODIFIED:20240115T073954Z
UID:4640-1704616200-1704616200@mcuc.org.au
SUMMARY:Sunday Service
DESCRIPTION:
URL:https://mcuc.org.au/event/sunday-service-4/
LOCATION:Morayfield Community Uniting Church  (behind Blue Care facility)\, 12-16 Weier Road\, Morayfield\, Queensland\, 4506\, Australia
CATEGORIES:Worship Services
ORGANIZER;CN="MCUC":MAILTO:mcuc77@gmail.com
END:VEVENT
BEGIN:VEVENT
DTSTART;TZID=Australia/Brisbane:20231231T083000
DTEND;TZID=Australia/Brisbane:20231231T093000
DTSTAMP:20260420T160624
CREATED:20231210T093722Z
LAST-MODIFIED:20240115T073936Z
UID:4636-1704011400-1704015000@mcuc.org.au
SUMMARY:Sunday Service
DESCRIPTION:
URL:https://mcuc.org.au/event/sunday-service-3/
LOCATION:Morayfield Community Uniting Church  (behind Blue Care facility)\, 12-16 Weier Road\, Morayfield\, Queensland\, 4506\, Australia
CATEGORIES:Worship Services
ORGANIZER;CN="MCUC":MAILTO:mcuc77@gmail.com
END:VEVENT
BEGIN:VEVENT
DTSTART;TZID=Australia/Brisbane:20231224T230000
DTEND;TZID=Australia/Brisbane:20231225T000000
DTSTAMP:20260420T160624
CREATED:20231210T071538Z
LAST-MODIFIED:20231210T093304Z
UID:4632-1703458800-1703462400@mcuc.org.au
SUMMARY:Christmas Eve Service
DESCRIPTION:
URL:https://mcuc.org.au/event/christmas-eve-service/
LOCATION:Morayfield Community Uniting Church  (behind Blue Care facility)\, 12-16 Weier Road\, Morayfield\, Queensland\, 4506\, Australia
CATEGORIES:Worship Services
ORGANIZER;CN="MCUC":MAILTO:mcuc77@gmail.com
END:VEVENT
BEGIN:VEVENT
DTSTART;TZID=Australia/Brisbane:20231224T083000
DTEND;TZID=Australia/Brisbane:20231224T093000
DTSTAMP:20260420T160624
CREATED:20231210T071418Z
LAST-MODIFIED:20231210T093323Z
UID:4630-1703406600-1703410200@mcuc.org.au
SUMMARY:Sunday Service
DESCRIPTION:
URL:https://mcuc.org.au/event/sunday-service-2/
LOCATION:Morayfield Community Uniting Church  (behind Blue Care facility)\, 12-16 Weier Road\, Morayfield\, Queensland\, 4506\, Australia
CATEGORIES:Worship Services
ORGANIZER;CN="MCUC":MAILTO:mcuc77@gmail.com
END:VEVENT
BEGIN:VEVENT
DTSTART;TZID=Australia/Brisbane:20231217T083000
DTEND;TZID=Australia/Brisbane:20231217T093000
DTSTAMP:20260420T160624
CREATED:20231210T071306Z
LAST-MODIFIED:20231210T093332Z
UID:4628-1702801800-1702805400@mcuc.org.au
SUMMARY:Sunday Service
DESCRIPTION:
URL:https://mcuc.org.au/event/sunday-service/
LOCATION:Morayfield Community Uniting Church  (behind Blue Care facility)\, 12-16 Weier Road\, Morayfield\, Queensland\, 4506\, Australia
CATEGORIES:Worship Services
ORGANIZER;CN="MCUC":MAILTO:mcuc77@gmail.com
END:VEVENT
END:VCALENDAR