BEGIN:VCALENDAR
VERSION:2.0
PRODID:-//Morayfield Community Uniting Church - ECPv6.15.20//NONSGML v1.0//EN
CALSCALE:GREGORIAN
METHOD:PUBLISH
X-WR-CALNAME:Morayfield Community Uniting Church
X-ORIGINAL-URL:https://mcuc.org.au
X-WR-CALDESC:Events for Morayfield Community Uniting Church
REFRESH-INTERVAL;VALUE=DURATION:PT1H
X-Robots-Tag:noindex
X-PUBLISHED-TTL:PT1H
BEGIN:VTIMEZONE
TZID:Australia/Brisbane
BEGIN:STANDARD
TZOFFSETFROM:+1000
TZOFFSETTO:+1000
TZNAME:AEST
DTSTART:20250101T000000
END:STANDARD
END:VTIMEZONE
BEGIN:VEVENT
DTSTART;TZID=Australia/Brisbane:20260424T190000
DTEND;TZID=Australia/Brisbane:20260424T210000
DTSTAMP:20260422T185646
CREATED:20260330T121144Z
LAST-MODIFIED:20260331T123513Z
UID:4713-1777057200-1777064400@mcuc.org.au
SUMMARY:Girls' Brigade
DESCRIPTION:
URL:https://mcuc.org.au/event/girls-brigade-9/
LOCATION:Morayfield State High School\, Visentin Road\, Morayfield\, Queensland\, 4506\, Australia
CATEGORIES:The Girls' Brigade
ORGANIZER;CN="Miranda Wyllie":MAILTO:wylliem@bigpond.com
END:VEVENT
BEGIN:VEVENT
DTSTART;TZID=Australia/Brisbane:20260424T190000
DTEND;TZID=Australia/Brisbane:20260424T213000
DTSTAMP:20260422T185646
CREATED:20240115T121125Z
LAST-MODIFIED:20260331T123048Z
UID:4711-1777057200-1777066200@mcuc.org.au
SUMMARY:Boys' Brigade
DESCRIPTION:
URL:https://mcuc.org.au/event/boys-brigade-9/
LOCATION:Morayfield State High School\, Visentin Road\, Morayfield\, Queensland\, 4506\, Australia
CATEGORIES:The Boys' Brigade
ORGANIZER;CN="Carlisle Wyllie":MAILTO:wylliec7@bigpond.com
END:VEVENT
BEGIN:VEVENT
DTSTART;TZID=Australia/Brisbane:20260426T083000
DTEND;TZID=Australia/Brisbane:20260426T093000
DTSTAMP:20260422T185646
CREATED:20240115T121204Z
LAST-MODIFIED:20260331T125420Z
UID:4714-1777192200-1777195800@mcuc.org.au
SUMMARY:Sunday Service
DESCRIPTION:
URL:https://mcuc.org.au/event/sunday-service-13/
LOCATION:Morayfield Community Uniting Church  (behind Blue Care facility)\, 12-16 Weier Road\, Morayfield\, Queensland\, 4506\, Australia
CATEGORIES:Worship Services
ORGANIZER;CN="MCUC":MAILTO:mcuc77@gmail.com
END:VEVENT
BEGIN:VEVENT
DTSTART;TZID=Australia/Brisbane:20260501T190000
DTEND;TZID=Australia/Brisbane:20260501T210000
DTSTAMP:20260422T185646
CREATED:20240115T084352Z
LAST-MODIFIED:20260331T123555Z
UID:4709-1777662000-1777669200@mcuc.org.au
SUMMARY:Girls' Brigade
DESCRIPTION:
URL:https://mcuc.org.au/event/girls-brigade-8/
LOCATION:Morayfield State High School\, Visentin Road\, Morayfield\, Queensland\, 4506\, Australia
CATEGORIES:The Girls' Brigade
ORGANIZER;CN="Miranda Wyllie":MAILTO:wylliem@bigpond.com
END:VEVENT
BEGIN:VEVENT
DTSTART;TZID=Australia/Brisbane:20260501T190000
DTEND;TZID=Australia/Brisbane:20260501T213000
DTSTAMP:20260422T185646
CREATED:20240115T084338Z
LAST-MODIFIED:20260331T123232Z
UID:4707-1777662000-1777671000@mcuc.org.au
SUMMARY:Boys' Brigade
DESCRIPTION:
URL:https://mcuc.org.au/event/boys-brigade-8/
LOCATION:Morayfield State High School\, Visentin Road\, Morayfield\, Queensland\, 4506\, Australia
CATEGORIES:The Boys' Brigade
ORGANIZER;CN="Carlisle Wyllie":MAILTO:wylliec7@bigpond.com
END:VEVENT
BEGIN:VEVENT
DTSTART;TZID=Australia/Brisbane:20260503T083000
DTEND;TZID=Australia/Brisbane:20260503T093000
DTSTAMP:20260422T185646
CREATED:20240115T073724Z
LAST-MODIFIED:20260331T125652Z
UID:4683-1777797000-1777800600@mcuc.org.au
SUMMARY:Sunday Service
DESCRIPTION:
URL:https://mcuc.org.au/event/sunday-service-11/
LOCATION:Morayfield Community Uniting Church  (behind Blue Care facility)\, 12-16 Weier Road\, Morayfield\, Queensland\, 4506\, Australia
CATEGORIES:Worship Services
ORGANIZER;CN="MCUC":MAILTO:mcuc77@gmail.com
END:VEVENT
BEGIN:VEVENT
DTSTART;TZID=Australia/Brisbane:20260508T190000
DTEND;TZID=Australia/Brisbane:20260508T210000
DTSTAMP:20260422T185646
CREATED:20240115T084225Z
LAST-MODIFIED:20260331T123810Z
UID:4705-1778266800-1778274000@mcuc.org.au
SUMMARY:Girls' Brigade
DESCRIPTION:
URL:https://mcuc.org.au/event/girls-brigade-7/
LOCATION:Morayfield State High School\, Visentin Road\, Morayfield\, Queensland\, 4506\, Australia
CATEGORIES:The Girls' Brigade
ORGANIZER;CN="Miranda Wyllie":MAILTO:wylliem@bigpond.com
END:VEVENT
BEGIN:VEVENT
DTSTART;TZID=Australia/Brisbane:20260508T190000
DTEND;TZID=Australia/Brisbane:20260508T213000
DTSTAMP:20260422T185646
CREATED:20240115T084211Z
LAST-MODIFIED:20260331T123655Z
UID:4703-1778266800-1778275800@mcuc.org.au
SUMMARY:Boys' Brigade
DESCRIPTION:
URL:https://mcuc.org.au/event/boys-brigade-7/
LOCATION:Morayfield State High School\, Visentin Road\, Morayfield\, Queensland\, 4506\, Australia
CATEGORIES:The Boys' Brigade
ORGANIZER;CN="Carlisle Wyllie":MAILTO:wylliec7@bigpond.com
END:VEVENT
BEGIN:VEVENT
DTSTART;TZID=Australia/Brisbane:20260510T083000
DTEND;TZID=Australia/Brisbane:20260510T093000
DTSTAMP:20260422T185646
CREATED:20240115T073830Z
LAST-MODIFIED:20260331T125508Z
UID:4690-1778401800-1778405400@mcuc.org.au
SUMMARY:Sunday Service
DESCRIPTION:
URL:https://mcuc.org.au/event/sunday-service-12/
LOCATION:Morayfield Community Uniting Church  (behind Blue Care facility)\, 12-16 Weier Road\, Morayfield\, Queensland\, 4506\, Australia
CATEGORIES:Worship Services
ORGANIZER;CN="MCUC":MAILTO:mcuc77@gmail.com
END:VEVENT
BEGIN:VEVENT
DTSTART;TZID=Australia/Brisbane:20260515T190000
DTEND;TZID=Australia/Brisbane:20260515T210000
DTSTAMP:20260422T185646
CREATED:20240115T084022Z
LAST-MODIFIED:20260331T125848Z
UID:4699-1778871600-1778878800@mcuc.org.au
SUMMARY:Girls' Brigade
DESCRIPTION:
URL:https://mcuc.org.au/event/girls-brigade-6/
LOCATION:Morayfield State High School\, Visentin Road\, Morayfield\, Queensland\, 4506\, Australia
CATEGORIES:The Girls' Brigade
ORGANIZER;CN="Miranda Wyllie":MAILTO:wylliem@bigpond.com
END:VEVENT
BEGIN:VEVENT
DTSTART;TZID=Australia/Brisbane:20260515T190000
DTEND;TZID=Australia/Brisbane:20260515T213000
DTSTAMP:20260422T185646
CREATED:20240115T084006Z
LAST-MODIFIED:20260331T125823Z
UID:4701-1778871600-1778880600@mcuc.org.au
SUMMARY:Boys' Brigade
DESCRIPTION:
URL:https://mcuc.org.au/event/boys-brigade-6/
LOCATION:Morayfield State High School\, Visentin Road\, Morayfield\, Queensland\, 4506\, Australia
CATEGORIES:The Boys' Brigade
ORGANIZER;CN="Carlisle Wyllie":MAILTO:wylliec7@bigpond.com
END:VEVENT
END:VCALENDAR